BEGIN:VCALENDAR
VERSION:2.0
PRODID:-//VGH Thrift Store - ECPv6.15.15//NONSGML v1.0//EN
CALSCALE:GREGORIAN
METHOD:PUBLISH
X-ORIGINAL-URL:https://vghthriftstore.org
X-WR-CALDESC:Events for VGH Thrift Store
REFRESH-INTERVAL;VALUE=DURATION:PT1H
X-Robots-Tag:noindex
X-PUBLISHED-TTL:PT1H
BEGIN:VTIMEZONE
TZID:America/Vancouver
BEGIN:DAYLIGHT
TZOFFSETFROM:-0800
TZOFFSETTO:-0700
TZNAME:PDT
DTSTART:20230312T100000
END:DAYLIGHT
BEGIN:STANDARD
TZOFFSETFROM:-0700
TZOFFSETTO:-0800
TZNAME:PST
DTSTART:20231105T090000
END:STANDARD
BEGIN:DAYLIGHT
TZOFFSETFROM:-0800
TZOFFSETTO:-0700
TZNAME:PDT
DTSTART:20240310T100000
END:DAYLIGHT
BEGIN:STANDARD
TZOFFSETFROM:-0700
TZOFFSETTO:-0800
TZNAME:PST
DTSTART:20241103T090000
END:STANDARD
BEGIN:DAYLIGHT
TZOFFSETFROM:-0800
TZOFFSETTO:-0700
TZNAME:PDT
DTSTART:20250309T100000
END:DAYLIGHT
BEGIN:STANDARD
TZOFFSETFROM:-0700
TZOFFSETTO:-0800
TZNAME:PST
DTSTART:20251102T090000
END:STANDARD
END:VTIMEZONE
BEGIN:VEVENT
DTSTART;VALUE=DATE:20241004
DTEND;VALUE=DATE:20241005
DTSTAMP:20260424T160430
CREATED:20180103T223203Z
LAST-MODIFIED:20180103T223203Z
UID:2652-1728000000-1728086399@vghthriftstore.org
SUMMARY:Colour Tag Sale - 50% off
DESCRIPTION:All customers get 50% off one colour a week every Friday\, Saturday and Sunday. Come visit the store to see what colour promotion is today!
URL:https://vghthriftstore.org/event/colour-tag-sale-2024-10-04/
CATEGORIES:Sales
END:VEVENT
BEGIN:VEVENT
DTSTART;VALUE=DATE:20241005
DTEND;VALUE=DATE:20241006
DTSTAMP:20260424T160430
CREATED:20180103T223203Z
LAST-MODIFIED:20180103T223203Z
UID:2653-1728086400-1728172799@vghthriftstore.org
SUMMARY:Colour Tag Sale - 50% off
DESCRIPTION:All customers get 50% off one colour a week every Friday\, Saturday and Sunday. Come visit the store to see what colour promotion is today!
URL:https://vghthriftstore.org/event/colour-tag-sale-2024-10-05/
CATEGORIES:Sales
END:VEVENT
BEGIN:VEVENT
DTSTART;VALUE=DATE:20241006
DTEND;VALUE=DATE:20241007
DTSTAMP:20260424T160430
CREATED:20180103T223203Z
LAST-MODIFIED:20180103T223203Z
UID:2654-1728172800-1728259199@vghthriftstore.org
SUMMARY:Colour Tag Sale - 50% off
DESCRIPTION:All customers get 50% off one colour a week every Friday\, Saturday and Sunday. Come visit the store to see what colour promotion is today!
URL:https://vghthriftstore.org/event/colour-tag-sale-2024-10-06/
CATEGORIES:Sales
END:VEVENT
BEGIN:VEVENT
DTSTART;VALUE=DATE:20241007
DTEND;VALUE=DATE:20241008
DTSTAMP:20260424T160430
CREATED:20180103T223423Z
LAST-MODIFIED:20180103T223423Z
UID:2655-1728259200-1728345599@vghthriftstore.org
SUMMARY:Seniors Day
DESCRIPTION:All seniors get 10% off your entire purchase
URL:https://vghthriftstore.org/event/seniors-day-4-2024-10-07/
CATEGORIES:Sales
END:VEVENT
BEGIN:VEVENT
DTSTART;VALUE=DATE:20241011
DTEND;VALUE=DATE:20241012
DTSTAMP:20260424T160430
CREATED:20180103T223203Z
LAST-MODIFIED:20180103T223203Z
UID:2656-1728604800-1728691199@vghthriftstore.org
SUMMARY:Colour Tag Sale - 50% off
DESCRIPTION:All customers get 50% off one colour a week every Friday\, Saturday and Sunday. Come visit the store to see what colour promotion is today!
URL:https://vghthriftstore.org/event/colour-tag-sale-2024-10-11/
CATEGORIES:Sales
END:VEVENT
BEGIN:VEVENT
DTSTART;VALUE=DATE:20241012
DTEND;VALUE=DATE:20241013
DTSTAMP:20260424T160430
CREATED:20180103T223203Z
LAST-MODIFIED:20180103T223203Z
UID:2657-1728691200-1728777599@vghthriftstore.org
SUMMARY:Colour Tag Sale - 50% off
DESCRIPTION:All customers get 50% off one colour a week every Friday\, Saturday and Sunday. Come visit the store to see what colour promotion is today!
URL:https://vghthriftstore.org/event/colour-tag-sale-2024-10-12/
CATEGORIES:Sales
END:VEVENT
BEGIN:VEVENT
DTSTART;VALUE=DATE:20241013
DTEND;VALUE=DATE:20241014
DTSTAMP:20260424T160430
CREATED:20180103T223203Z
LAST-MODIFIED:20180103T223203Z
UID:2658-1728777600-1728863999@vghthriftstore.org
SUMMARY:Colour Tag Sale - 50% off
DESCRIPTION:All customers get 50% off one colour a week every Friday\, Saturday and Sunday. Come visit the store to see what colour promotion is today!
URL:https://vghthriftstore.org/event/colour-tag-sale-2024-10-13/
CATEGORIES:Sales
END:VEVENT
BEGIN:VEVENT
DTSTART;VALUE=DATE:20241014
DTEND;VALUE=DATE:20241015
DTSTAMP:20260424T160430
CREATED:20180103T223423Z
LAST-MODIFIED:20180103T223423Z
UID:2659-1728864000-1728950399@vghthriftstore.org
SUMMARY:Seniors Day
DESCRIPTION:All seniors get 10% off your entire purchase
URL:https://vghthriftstore.org/event/seniors-day-4-2024-10-14/
CATEGORIES:Sales
END:VEVENT
BEGIN:VEVENT
DTSTART;VALUE=DATE:20241018
DTEND;VALUE=DATE:20241019
DTSTAMP:20260424T160430
CREATED:20180103T223203Z
LAST-MODIFIED:20180103T223203Z
UID:2660-1729209600-1729295999@vghthriftstore.org
SUMMARY:Colour Tag Sale - 50% off
DESCRIPTION:All customers get 50% off one colour a week every Friday\, Saturday and Sunday. Come visit the store to see what colour promotion is today!
URL:https://vghthriftstore.org/event/colour-tag-sale-2024-10-18/
CATEGORIES:Sales
END:VEVENT
BEGIN:VEVENT
DTSTART;VALUE=DATE:20241019
DTEND;VALUE=DATE:20241020
DTSTAMP:20260424T160430
CREATED:20180103T223203Z
LAST-MODIFIED:20180103T223203Z
UID:2661-1729296000-1729382399@vghthriftstore.org
SUMMARY:Colour Tag Sale - 50% off
DESCRIPTION:All customers get 50% off one colour a week every Friday\, Saturday and Sunday. Come visit the store to see what colour promotion is today!
URL:https://vghthriftstore.org/event/colour-tag-sale-2024-10-19/
CATEGORIES:Sales
END:VEVENT
BEGIN:VEVENT
DTSTART;VALUE=DATE:20241020
DTEND;VALUE=DATE:20241021
DTSTAMP:20260424T160430
CREATED:20180103T223203Z
LAST-MODIFIED:20180103T223203Z
UID:2662-1729382400-1729468799@vghthriftstore.org
SUMMARY:Colour Tag Sale - 50% off
DESCRIPTION:All customers get 50% off one colour a week every Friday\, Saturday and Sunday. Come visit the store to see what colour promotion is today!
URL:https://vghthriftstore.org/event/colour-tag-sale-2024-10-20/
CATEGORIES:Sales
END:VEVENT
BEGIN:VEVENT
DTSTART;VALUE=DATE:20241021
DTEND;VALUE=DATE:20241022
DTSTAMP:20260424T160430
CREATED:20180103T223423Z
LAST-MODIFIED:20180103T223423Z
UID:2663-1729468800-1729555199@vghthriftstore.org
SUMMARY:Seniors Day
DESCRIPTION:All seniors get 10% off your entire purchase
URL:https://vghthriftstore.org/event/seniors-day-4-2024-10-21/
CATEGORIES:Sales
END:VEVENT
BEGIN:VEVENT
DTSTART;VALUE=DATE:20241025
DTEND;VALUE=DATE:20241026
DTSTAMP:20260424T160430
CREATED:20180103T223203Z
LAST-MODIFIED:20180103T223203Z
UID:2664-1729814400-1729900799@vghthriftstore.org
SUMMARY:Colour Tag Sale - 50% off
DESCRIPTION:All customers get 50% off one colour a week every Friday\, Saturday and Sunday. Come visit the store to see what colour promotion is today!
URL:https://vghthriftstore.org/event/colour-tag-sale-2024-10-25/
CATEGORIES:Sales
END:VEVENT
BEGIN:VEVENT
DTSTART;VALUE=DATE:20241026
DTEND;VALUE=DATE:20241027
DTSTAMP:20260424T160430
CREATED:20180103T223203Z
LAST-MODIFIED:20180103T223203Z
UID:2665-1729900800-1729987199@vghthriftstore.org
SUMMARY:Colour Tag Sale - 50% off
DESCRIPTION:All customers get 50% off one colour a week every Friday\, Saturday and Sunday. Come visit the store to see what colour promotion is today!
URL:https://vghthriftstore.org/event/colour-tag-sale-2024-10-26/
CATEGORIES:Sales
END:VEVENT
BEGIN:VEVENT
DTSTART;VALUE=DATE:20241027
DTEND;VALUE=DATE:20241028
DTSTAMP:20260424T160430
CREATED:20180103T223203Z
LAST-MODIFIED:20180103T223203Z
UID:2666-1729987200-1730073599@vghthriftstore.org
SUMMARY:Colour Tag Sale - 50% off
DESCRIPTION:All customers get 50% off one colour a week every Friday\, Saturday and Sunday. Come visit the store to see what colour promotion is today!
URL:https://vghthriftstore.org/event/colour-tag-sale-2024-10-27/
CATEGORIES:Sales
END:VEVENT
BEGIN:VEVENT
DTSTART;VALUE=DATE:20241028
DTEND;VALUE=DATE:20241029
DTSTAMP:20260424T160430
CREATED:20180103T223423Z
LAST-MODIFIED:20180103T223423Z
UID:2667-1730073600-1730159999@vghthriftstore.org
SUMMARY:Seniors Day
DESCRIPTION:All seniors get 10% off your entire purchase
URL:https://vghthriftstore.org/event/seniors-day-4-2024-10-28/
CATEGORIES:Sales
END:VEVENT
END:VCALENDAR