BEGIN:VCALENDAR
VERSION:2.0
PRODID:-//VGH Thrift Store - ECPv6.15.15//NONSGML v1.0//EN
CALSCALE:GREGORIAN
METHOD:PUBLISH
X-WR-CALNAME:VGH Thrift Store
X-ORIGINAL-URL:https://vghthriftstore.org
X-WR-CALDESC:Events for VGH Thrift Store
REFRESH-INTERVAL;VALUE=DURATION:PT1H
X-Robots-Tag:noindex
X-PUBLISHED-TTL:PT1H
BEGIN:VTIMEZONE
TZID:America/Vancouver
BEGIN:DAYLIGHT
TZOFFSETFROM:-0800
TZOFFSETTO:-0700
TZNAME:PDT
DTSTART:20230312T100000
END:DAYLIGHT
BEGIN:STANDARD
TZOFFSETFROM:-0700
TZOFFSETTO:-0800
TZNAME:PST
DTSTART:20231105T090000
END:STANDARD
BEGIN:DAYLIGHT
TZOFFSETFROM:-0800
TZOFFSETTO:-0700
TZNAME:PDT
DTSTART:20240310T100000
END:DAYLIGHT
BEGIN:STANDARD
TZOFFSETFROM:-0700
TZOFFSETTO:-0800
TZNAME:PST
DTSTART:20241103T090000
END:STANDARD
BEGIN:DAYLIGHT
TZOFFSETFROM:-0800
TZOFFSETTO:-0700
TZNAME:PDT
DTSTART:20250309T100000
END:DAYLIGHT
BEGIN:STANDARD
TZOFFSETFROM:-0700
TZOFFSETTO:-0800
TZNAME:PST
DTSTART:20251102T090000
END:STANDARD
END:VTIMEZONE
BEGIN:VEVENT
DTSTART;VALUE=DATE:20240503
DTEND;VALUE=DATE:20240504
DTSTAMP:20260424T184745
CREATED:20180103T223203Z
LAST-MODIFIED:20180103T223203Z
UID:2558-1714694400-1714780799@vghthriftstore.org
SUMMARY:Colour Tag Sale - 50% off
DESCRIPTION:All customers get 50% off one colour a week every Friday\, Saturday and Sunday. Come visit the store to see what colour promotion is today!
URL:https://vghthriftstore.org/event/colour-tag-sale-2024-05-03/
CATEGORIES:Sales
END:VEVENT
BEGIN:VEVENT
DTSTART;VALUE=DATE:20240504
DTEND;VALUE=DATE:20240505
DTSTAMP:20260424T184745
CREATED:20180103T223203Z
LAST-MODIFIED:20180103T223203Z
UID:2559-1714780800-1714867199@vghthriftstore.org
SUMMARY:Colour Tag Sale - 50% off
DESCRIPTION:All customers get 50% off one colour a week every Friday\, Saturday and Sunday. Come visit the store to see what colour promotion is today!
URL:https://vghthriftstore.org/event/colour-tag-sale-2024-05-04/
CATEGORIES:Sales
END:VEVENT
BEGIN:VEVENT
DTSTART;VALUE=DATE:20240505
DTEND;VALUE=DATE:20240506
DTSTAMP:20260424T184745
CREATED:20180103T223203Z
LAST-MODIFIED:20180103T223203Z
UID:2560-1714867200-1714953599@vghthriftstore.org
SUMMARY:Colour Tag Sale - 50% off
DESCRIPTION:All customers get 50% off one colour a week every Friday\, Saturday and Sunday. Come visit the store to see what colour promotion is today!
URL:https://vghthriftstore.org/event/colour-tag-sale-2024-05-05/
CATEGORIES:Sales
END:VEVENT
BEGIN:VEVENT
DTSTART;VALUE=DATE:20240506
DTEND;VALUE=DATE:20240507
DTSTAMP:20260424T184745
CREATED:20180103T223423Z
LAST-MODIFIED:20180103T223423Z
UID:2561-1714953600-1715039999@vghthriftstore.org
SUMMARY:Seniors Day
DESCRIPTION:All seniors get 10% off your entire purchase
URL:https://vghthriftstore.org/event/seniors-day-4-2024-05-06/
CATEGORIES:Sales
END:VEVENT
BEGIN:VEVENT
DTSTART;VALUE=DATE:20240510
DTEND;VALUE=DATE:20240511
DTSTAMP:20260424T184745
CREATED:20180103T223203Z
LAST-MODIFIED:20180103T223203Z
UID:2562-1715299200-1715385599@vghthriftstore.org
SUMMARY:Colour Tag Sale - 50% off
DESCRIPTION:All customers get 50% off one colour a week every Friday\, Saturday and Sunday. Come visit the store to see what colour promotion is today!
URL:https://vghthriftstore.org/event/colour-tag-sale-2024-05-10/
CATEGORIES:Sales
END:VEVENT
BEGIN:VEVENT
DTSTART;VALUE=DATE:20240511
DTEND;VALUE=DATE:20240512
DTSTAMP:20260424T184745
CREATED:20180103T223203Z
LAST-MODIFIED:20180103T223203Z
UID:2563-1715385600-1715471999@vghthriftstore.org
SUMMARY:Colour Tag Sale - 50% off
DESCRIPTION:All customers get 50% off one colour a week every Friday\, Saturday and Sunday. Come visit the store to see what colour promotion is today!
URL:https://vghthriftstore.org/event/colour-tag-sale-2024-05-11/
CATEGORIES:Sales
END:VEVENT
BEGIN:VEVENT
DTSTART;VALUE=DATE:20240512
DTEND;VALUE=DATE:20240513
DTSTAMP:20260424T184745
CREATED:20180103T223203Z
LAST-MODIFIED:20180103T223203Z
UID:2564-1715472000-1715558399@vghthriftstore.org
SUMMARY:Colour Tag Sale - 50% off
DESCRIPTION:All customers get 50% off one colour a week every Friday\, Saturday and Sunday. Come visit the store to see what colour promotion is today!
URL:https://vghthriftstore.org/event/colour-tag-sale-2024-05-12/
CATEGORIES:Sales
END:VEVENT
BEGIN:VEVENT
DTSTART;VALUE=DATE:20240513
DTEND;VALUE=DATE:20240514
DTSTAMP:20260424T184745
CREATED:20180103T223423Z
LAST-MODIFIED:20180103T223423Z
UID:2565-1715558400-1715644799@vghthriftstore.org
SUMMARY:Seniors Day
DESCRIPTION:All seniors get 10% off your entire purchase
URL:https://vghthriftstore.org/event/seniors-day-4-2024-05-13/
CATEGORIES:Sales
END:VEVENT
BEGIN:VEVENT
DTSTART;VALUE=DATE:20240517
DTEND;VALUE=DATE:20240518
DTSTAMP:20260424T184745
CREATED:20180103T223203Z
LAST-MODIFIED:20180103T223203Z
UID:2566-1715904000-1715990399@vghthriftstore.org
SUMMARY:Colour Tag Sale - 50% off
DESCRIPTION:All customers get 50% off one colour a week every Friday\, Saturday and Sunday. Come visit the store to see what colour promotion is today!
URL:https://vghthriftstore.org/event/colour-tag-sale-2024-05-17/
CATEGORIES:Sales
END:VEVENT
BEGIN:VEVENT
DTSTART;VALUE=DATE:20240518
DTEND;VALUE=DATE:20240519
DTSTAMP:20260424T184745
CREATED:20180103T223203Z
LAST-MODIFIED:20180103T223203Z
UID:2567-1715990400-1716076799@vghthriftstore.org
SUMMARY:Colour Tag Sale - 50% off
DESCRIPTION:All customers get 50% off one colour a week every Friday\, Saturday and Sunday. Come visit the store to see what colour promotion is today!
URL:https://vghthriftstore.org/event/colour-tag-sale-2024-05-18/
CATEGORIES:Sales
END:VEVENT
BEGIN:VEVENT
DTSTART;VALUE=DATE:20240519
DTEND;VALUE=DATE:20240520
DTSTAMP:20260424T184745
CREATED:20180103T223203Z
LAST-MODIFIED:20180103T223203Z
UID:2568-1716076800-1716163199@vghthriftstore.org
SUMMARY:Colour Tag Sale - 50% off
DESCRIPTION:All customers get 50% off one colour a week every Friday\, Saturday and Sunday. Come visit the store to see what colour promotion is today!
URL:https://vghthriftstore.org/event/colour-tag-sale-2024-05-19/
CATEGORIES:Sales
END:VEVENT
BEGIN:VEVENT
DTSTART;VALUE=DATE:20240520
DTEND;VALUE=DATE:20240521
DTSTAMP:20260424T184745
CREATED:20180103T223423Z
LAST-MODIFIED:20180103T223423Z
UID:2569-1716163200-1716249599@vghthriftstore.org
SUMMARY:Seniors Day
DESCRIPTION:All seniors get 10% off your entire purchase
URL:https://vghthriftstore.org/event/seniors-day-4-2024-05-20/
CATEGORIES:Sales
END:VEVENT
BEGIN:VEVENT
DTSTART;VALUE=DATE:20240524
DTEND;VALUE=DATE:20240525
DTSTAMP:20260424T184745
CREATED:20180103T223203Z
LAST-MODIFIED:20180103T223203Z
UID:2570-1716508800-1716595199@vghthriftstore.org
SUMMARY:Colour Tag Sale - 50% off
DESCRIPTION:All customers get 50% off one colour a week every Friday\, Saturday and Sunday. Come visit the store to see what colour promotion is today!
URL:https://vghthriftstore.org/event/colour-tag-sale-2024-05-24/
CATEGORIES:Sales
END:VEVENT
BEGIN:VEVENT
DTSTART;VALUE=DATE:20240525
DTEND;VALUE=DATE:20240526
DTSTAMP:20260424T184745
CREATED:20180103T223203Z
LAST-MODIFIED:20180103T223203Z
UID:2571-1716595200-1716681599@vghthriftstore.org
SUMMARY:Colour Tag Sale - 50% off
DESCRIPTION:All customers get 50% off one colour a week every Friday\, Saturday and Sunday. Come visit the store to see what colour promotion is today!
URL:https://vghthriftstore.org/event/colour-tag-sale-2024-05-25/
CATEGORIES:Sales
END:VEVENT
BEGIN:VEVENT
DTSTART;VALUE=DATE:20240526
DTEND;VALUE=DATE:20240527
DTSTAMP:20260424T184745
CREATED:20180103T223203Z
LAST-MODIFIED:20180103T223203Z
UID:2572-1716681600-1716767999@vghthriftstore.org
SUMMARY:Colour Tag Sale - 50% off
DESCRIPTION:All customers get 50% off one colour a week every Friday\, Saturday and Sunday. Come visit the store to see what colour promotion is today!
URL:https://vghthriftstore.org/event/colour-tag-sale-2024-05-26/
CATEGORIES:Sales
END:VEVENT
BEGIN:VEVENT
DTSTART;VALUE=DATE:20240527
DTEND;VALUE=DATE:20240528
DTSTAMP:20260424T184745
CREATED:20180103T223423Z
LAST-MODIFIED:20180103T223423Z
UID:2573-1716768000-1716854399@vghthriftstore.org
SUMMARY:Seniors Day
DESCRIPTION:All seniors get 10% off your entire purchase
URL:https://vghthriftstore.org/event/seniors-day-4-2024-05-27/
CATEGORIES:Sales
END:VEVENT
BEGIN:VEVENT
DTSTART;VALUE=DATE:20240531
DTEND;VALUE=DATE:20240601
DTSTAMP:20260424T184745
CREATED:20180103T223203Z
LAST-MODIFIED:20180103T223203Z
UID:2574-1717113600-1717199999@vghthriftstore.org
SUMMARY:Colour Tag Sale - 50% off
DESCRIPTION:All customers get 50% off one colour a week every Friday\, Saturday and Sunday. Come visit the store to see what colour promotion is today!
URL:https://vghthriftstore.org/event/colour-tag-sale-2024-05-31/
CATEGORIES:Sales
END:VEVENT
END:VCALENDAR