BEGIN:VCALENDAR
VERSION:2.0
PRODID:-//VGH Thrift Store - ECPv6.15.15//NONSGML v1.0//EN
CALSCALE:GREGORIAN
METHOD:PUBLISH
X-WR-CALNAME:VGH Thrift Store
X-ORIGINAL-URL:https://vghthriftstore.org
X-WR-CALDESC:Events for VGH Thrift Store
REFRESH-INTERVAL;VALUE=DURATION:PT1H
X-Robots-Tag:noindex
X-PUBLISHED-TTL:PT1H
BEGIN:VTIMEZONE
TZID:America/Vancouver
BEGIN:DAYLIGHT
TZOFFSETFROM:-0800
TZOFFSETTO:-0700
TZNAME:PDT
DTSTART:20240310T100000
END:DAYLIGHT
BEGIN:STANDARD
TZOFFSETFROM:-0700
TZOFFSETTO:-0800
TZNAME:PST
DTSTART:20241103T090000
END:STANDARD
BEGIN:DAYLIGHT
TZOFFSETFROM:-0800
TZOFFSETTO:-0700
TZNAME:PDT
DTSTART:20250309T100000
END:DAYLIGHT
BEGIN:STANDARD
TZOFFSETFROM:-0700
TZOFFSETTO:-0800
TZNAME:PST
DTSTART:20251102T090000
END:STANDARD
BEGIN:DAYLIGHT
TZOFFSETFROM:-0800
TZOFFSETTO:-0700
TZNAME:PDT
DTSTART:20260308T100000
END:DAYLIGHT
BEGIN:STANDARD
TZOFFSETFROM:-0700
TZOFFSETTO:-0800
TZNAME:PST
DTSTART:20261101T090000
END:STANDARD
END:VTIMEZONE
BEGIN:VEVENT
DTSTART;VALUE=DATE:20250301
DTEND;VALUE=DATE:20250302
DTSTAMP:20260424T023056
CREATED:20180103T223203Z
LAST-MODIFIED:20180103T223203Z
UID:2739-1740787200-1740873599@vghthriftstore.org
SUMMARY:Colour Tag Sale - 50% off
DESCRIPTION:All customers get 50% off one colour a week every Friday\, Saturday and Sunday. Come visit the store to see what colour promotion is today!
URL:https://vghthriftstore.org/event/colour-tag-sale-2025-03-01/
CATEGORIES:Sales
END:VEVENT
BEGIN:VEVENT
DTSTART;VALUE=DATE:20250302
DTEND;VALUE=DATE:20250303
DTSTAMP:20260424T023056
CREATED:20180103T223203Z
LAST-MODIFIED:20180103T223203Z
UID:2740-1740873600-1740959999@vghthriftstore.org
SUMMARY:Colour Tag Sale - 50% off
DESCRIPTION:All customers get 50% off one colour a week every Friday\, Saturday and Sunday. Come visit the store to see what colour promotion is today!
URL:https://vghthriftstore.org/event/colour-tag-sale-2025-03-02/
CATEGORIES:Sales
END:VEVENT
BEGIN:VEVENT
DTSTART;VALUE=DATE:20250303
DTEND;VALUE=DATE:20250304
DTSTAMP:20260424T023056
CREATED:20180103T223423Z
LAST-MODIFIED:20180103T223423Z
UID:2741-1740960000-1741046399@vghthriftstore.org
SUMMARY:Seniors Day
DESCRIPTION:All seniors get 10% off your entire purchase
URL:https://vghthriftstore.org/event/seniors-day-4-2025-03-03/
CATEGORIES:Sales
END:VEVENT
BEGIN:VEVENT
DTSTART;VALUE=DATE:20250307
DTEND;VALUE=DATE:20250308
DTSTAMP:20260424T023056
CREATED:20180103T223203Z
LAST-MODIFIED:20180103T223203Z
UID:2742-1741305600-1741391999@vghthriftstore.org
SUMMARY:Colour Tag Sale - 50% off
DESCRIPTION:All customers get 50% off one colour a week every Friday\, Saturday and Sunday. Come visit the store to see what colour promotion is today!
URL:https://vghthriftstore.org/event/colour-tag-sale-2025-03-07/
CATEGORIES:Sales
END:VEVENT
BEGIN:VEVENT
DTSTART;VALUE=DATE:20250308
DTEND;VALUE=DATE:20250309
DTSTAMP:20260424T023056
CREATED:20180103T223203Z
LAST-MODIFIED:20180103T223203Z
UID:2743-1741392000-1741478399@vghthriftstore.org
SUMMARY:Colour Tag Sale - 50% off
DESCRIPTION:All customers get 50% off one colour a week every Friday\, Saturday and Sunday. Come visit the store to see what colour promotion is today!
URL:https://vghthriftstore.org/event/colour-tag-sale-2025-03-08/
CATEGORIES:Sales
END:VEVENT
BEGIN:VEVENT
DTSTART;VALUE=DATE:20250309
DTEND;VALUE=DATE:20250310
DTSTAMP:20260424T023056
CREATED:20180103T223203Z
LAST-MODIFIED:20180103T223203Z
UID:2744-1741478400-1741564799@vghthriftstore.org
SUMMARY:Colour Tag Sale - 50% off
DESCRIPTION:All customers get 50% off one colour a week every Friday\, Saturday and Sunday. Come visit the store to see what colour promotion is today!
URL:https://vghthriftstore.org/event/colour-tag-sale-2025-03-09/
CATEGORIES:Sales
END:VEVENT
BEGIN:VEVENT
DTSTART;VALUE=DATE:20250310
DTEND;VALUE=DATE:20250311
DTSTAMP:20260424T023056
CREATED:20180103T223423Z
LAST-MODIFIED:20180103T223423Z
UID:2745-1741564800-1741651199@vghthriftstore.org
SUMMARY:Seniors Day
DESCRIPTION:All seniors get 10% off your entire purchase
URL:https://vghthriftstore.org/event/seniors-day-4-2025-03-10/
CATEGORIES:Sales
END:VEVENT
BEGIN:VEVENT
DTSTART;VALUE=DATE:20250314
DTEND;VALUE=DATE:20250315
DTSTAMP:20260424T023056
CREATED:20180103T223203Z
LAST-MODIFIED:20180103T223203Z
UID:2746-1741910400-1741996799@vghthriftstore.org
SUMMARY:Colour Tag Sale - 50% off
DESCRIPTION:All customers get 50% off one colour a week every Friday\, Saturday and Sunday. Come visit the store to see what colour promotion is today!
URL:https://vghthriftstore.org/event/colour-tag-sale-2025-03-14/
CATEGORIES:Sales
END:VEVENT
BEGIN:VEVENT
DTSTART;VALUE=DATE:20250315
DTEND;VALUE=DATE:20250316
DTSTAMP:20260424T023056
CREATED:20180103T223203Z
LAST-MODIFIED:20180103T223203Z
UID:2747-1741996800-1742083199@vghthriftstore.org
SUMMARY:Colour Tag Sale - 50% off
DESCRIPTION:All customers get 50% off one colour a week every Friday\, Saturday and Sunday. Come visit the store to see what colour promotion is today!
URL:https://vghthriftstore.org/event/colour-tag-sale-2025-03-15/
CATEGORIES:Sales
END:VEVENT
BEGIN:VEVENT
DTSTART;VALUE=DATE:20250316
DTEND;VALUE=DATE:20250317
DTSTAMP:20260424T023056
CREATED:20180103T223203Z
LAST-MODIFIED:20180103T223203Z
UID:2748-1742083200-1742169599@vghthriftstore.org
SUMMARY:Colour Tag Sale - 50% off
DESCRIPTION:All customers get 50% off one colour a week every Friday\, Saturday and Sunday. Come visit the store to see what colour promotion is today!
URL:https://vghthriftstore.org/event/colour-tag-sale-2025-03-16/
CATEGORIES:Sales
END:VEVENT
BEGIN:VEVENT
DTSTART;VALUE=DATE:20250317
DTEND;VALUE=DATE:20250318
DTSTAMP:20260424T023056
CREATED:20180103T223423Z
LAST-MODIFIED:20180103T223423Z
UID:2749-1742169600-1742255999@vghthriftstore.org
SUMMARY:Seniors Day
DESCRIPTION:All seniors get 10% off your entire purchase
URL:https://vghthriftstore.org/event/seniors-day-4-2025-03-17/
CATEGORIES:Sales
END:VEVENT
BEGIN:VEVENT
DTSTART;VALUE=DATE:20250321
DTEND;VALUE=DATE:20250322
DTSTAMP:20260424T023056
CREATED:20180103T223203Z
LAST-MODIFIED:20180103T223203Z
UID:2750-1742515200-1742601599@vghthriftstore.org
SUMMARY:Colour Tag Sale - 50% off
DESCRIPTION:All customers get 50% off one colour a week every Friday\, Saturday and Sunday. Come visit the store to see what colour promotion is today!
URL:https://vghthriftstore.org/event/colour-tag-sale-2025-03-21/
CATEGORIES:Sales
END:VEVENT
BEGIN:VEVENT
DTSTART;VALUE=DATE:20250322
DTEND;VALUE=DATE:20250323
DTSTAMP:20260424T023056
CREATED:20180103T223203Z
LAST-MODIFIED:20180103T223203Z
UID:2751-1742601600-1742687999@vghthriftstore.org
SUMMARY:Colour Tag Sale - 50% off
DESCRIPTION:All customers get 50% off one colour a week every Friday\, Saturday and Sunday. Come visit the store to see what colour promotion is today!
URL:https://vghthriftstore.org/event/colour-tag-sale-2025-03-22/
CATEGORIES:Sales
END:VEVENT
BEGIN:VEVENT
DTSTART;VALUE=DATE:20250323
DTEND;VALUE=DATE:20250324
DTSTAMP:20260424T023056
CREATED:20180103T223203Z
LAST-MODIFIED:20180103T223203Z
UID:2752-1742688000-1742774399@vghthriftstore.org
SUMMARY:Colour Tag Sale - 50% off
DESCRIPTION:All customers get 50% off one colour a week every Friday\, Saturday and Sunday. Come visit the store to see what colour promotion is today!
URL:https://vghthriftstore.org/event/colour-tag-sale-2025-03-23/
CATEGORIES:Sales
END:VEVENT
BEGIN:VEVENT
DTSTART;VALUE=DATE:20250324
DTEND;VALUE=DATE:20250325
DTSTAMP:20260424T023056
CREATED:20180103T223423Z
LAST-MODIFIED:20180103T223423Z
UID:2753-1742774400-1742860799@vghthriftstore.org
SUMMARY:Seniors Day
DESCRIPTION:All seniors get 10% off your entire purchase
URL:https://vghthriftstore.org/event/seniors-day-4-2025-03-24/
CATEGORIES:Sales
END:VEVENT
BEGIN:VEVENT
DTSTART;VALUE=DATE:20250328
DTEND;VALUE=DATE:20250329
DTSTAMP:20260424T023056
CREATED:20180103T223203Z
LAST-MODIFIED:20180103T223203Z
UID:2754-1743120000-1743206399@vghthriftstore.org
SUMMARY:Colour Tag Sale - 50% off
DESCRIPTION:All customers get 50% off one colour a week every Friday\, Saturday and Sunday. Come visit the store to see what colour promotion is today!
URL:https://vghthriftstore.org/event/colour-tag-sale-2025-03-28/
CATEGORIES:Sales
END:VEVENT
BEGIN:VEVENT
DTSTART;VALUE=DATE:20250329
DTEND;VALUE=DATE:20250330
DTSTAMP:20260424T023056
CREATED:20180103T223203Z
LAST-MODIFIED:20180103T223203Z
UID:2755-1743206400-1743292799@vghthriftstore.org
SUMMARY:Colour Tag Sale - 50% off
DESCRIPTION:All customers get 50% off one colour a week every Friday\, Saturday and Sunday. Come visit the store to see what colour promotion is today!
URL:https://vghthriftstore.org/event/colour-tag-sale-2025-03-29/
CATEGORIES:Sales
END:VEVENT
BEGIN:VEVENT
DTSTART;VALUE=DATE:20250330
DTEND;VALUE=DATE:20250331
DTSTAMP:20260424T023056
CREATED:20180103T223203Z
LAST-MODIFIED:20180103T223203Z
UID:2756-1743292800-1743379199@vghthriftstore.org
SUMMARY:Colour Tag Sale - 50% off
DESCRIPTION:All customers get 50% off one colour a week every Friday\, Saturday and Sunday. Come visit the store to see what colour promotion is today!
URL:https://vghthriftstore.org/event/colour-tag-sale-2025-03-30/
CATEGORIES:Sales
END:VEVENT
BEGIN:VEVENT
DTSTART;VALUE=DATE:20250331
DTEND;VALUE=DATE:20250401
DTSTAMP:20260424T023056
CREATED:20180103T223423Z
LAST-MODIFIED:20180103T223423Z
UID:2757-1743379200-1743465599@vghthriftstore.org
SUMMARY:Seniors Day
DESCRIPTION:All seniors get 10% off your entire purchase
URL:https://vghthriftstore.org/event/seniors-day-4-2025-03-31/
CATEGORIES:Sales
END:VEVENT
END:VCALENDAR