BEGIN:VCALENDAR
VERSION:2.0
PRODID:-//VGH Thrift Store - ECPv6.15.15//NONSGML v1.0//EN
CALSCALE:GREGORIAN
METHOD:PUBLISH
X-WR-CALNAME:VGH Thrift Store
X-ORIGINAL-URL:https://vghthriftstore.org
X-WR-CALDESC:Events for VGH Thrift Store
REFRESH-INTERVAL;VALUE=DURATION:PT1H
X-Robots-Tag:noindex
X-PUBLISHED-TTL:PT1H
BEGIN:VTIMEZONE
TZID:America/Vancouver
BEGIN:DAYLIGHT
TZOFFSETFROM:-0800
TZOFFSETTO:-0700
TZNAME:PDT
DTSTART:20240310T100000
END:DAYLIGHT
BEGIN:STANDARD
TZOFFSETFROM:-0700
TZOFFSETTO:-0800
TZNAME:PST
DTSTART:20241103T090000
END:STANDARD
BEGIN:DAYLIGHT
TZOFFSETFROM:-0800
TZOFFSETTO:-0700
TZNAME:PDT
DTSTART:20250309T100000
END:DAYLIGHT
BEGIN:STANDARD
TZOFFSETFROM:-0700
TZOFFSETTO:-0800
TZNAME:PST
DTSTART:20251102T090000
END:STANDARD
BEGIN:DAYLIGHT
TZOFFSETFROM:-0800
TZOFFSETTO:-0700
TZNAME:PDT
DTSTART:20260308T100000
END:DAYLIGHT
BEGIN:STANDARD
TZOFFSETFROM:-0700
TZOFFSETTO:-0800
TZNAME:PST
DTSTART:20261101T090000
END:STANDARD
END:VTIMEZONE
BEGIN:VEVENT
DTSTART;VALUE=DATE:20250502
DTEND;VALUE=DATE:20250503
DTSTAMP:20260423T234642
CREATED:20180103T223203Z
LAST-MODIFIED:20180103T223203Z
UID:2774-1746144000-1746230399@vghthriftstore.org
SUMMARY:Colour Tag Sale - 50% off
DESCRIPTION:All customers get 50% off one colour a week every Friday\, Saturday and Sunday. Come visit the store to see what colour promotion is today!
URL:https://vghthriftstore.org/event/colour-tag-sale-2025-05-02/
CATEGORIES:Sales
END:VEVENT
BEGIN:VEVENT
DTSTART;VALUE=DATE:20250503
DTEND;VALUE=DATE:20250504
DTSTAMP:20260423T234642
CREATED:20180103T223203Z
LAST-MODIFIED:20180103T223203Z
UID:2775-1746230400-1746316799@vghthriftstore.org
SUMMARY:Colour Tag Sale - 50% off
DESCRIPTION:All customers get 50% off one colour a week every Friday\, Saturday and Sunday. Come visit the store to see what colour promotion is today!
URL:https://vghthriftstore.org/event/colour-tag-sale-2025-05-03/
CATEGORIES:Sales
END:VEVENT
BEGIN:VEVENT
DTSTART;VALUE=DATE:20250504
DTEND;VALUE=DATE:20250505
DTSTAMP:20260423T234642
CREATED:20180103T223203Z
LAST-MODIFIED:20180103T223203Z
UID:2776-1746316800-1746403199@vghthriftstore.org
SUMMARY:Colour Tag Sale - 50% off
DESCRIPTION:All customers get 50% off one colour a week every Friday\, Saturday and Sunday. Come visit the store to see what colour promotion is today!
URL:https://vghthriftstore.org/event/colour-tag-sale-2025-05-04/
CATEGORIES:Sales
END:VEVENT
BEGIN:VEVENT
DTSTART;VALUE=DATE:20250505
DTEND;VALUE=DATE:20250506
DTSTAMP:20260423T234642
CREATED:20180103T223423Z
LAST-MODIFIED:20180103T223423Z
UID:2777-1746403200-1746489599@vghthriftstore.org
SUMMARY:Seniors Day
DESCRIPTION:All seniors get 10% off your entire purchase
URL:https://vghthriftstore.org/event/seniors-day-4-2025-05-05/
CATEGORIES:Sales
END:VEVENT
BEGIN:VEVENT
DTSTART;VALUE=DATE:20250509
DTEND;VALUE=DATE:20250510
DTSTAMP:20260423T234642
CREATED:20180103T223203Z
LAST-MODIFIED:20180103T223203Z
UID:2778-1746748800-1746835199@vghthriftstore.org
SUMMARY:Colour Tag Sale - 50% off
DESCRIPTION:All customers get 50% off one colour a week every Friday\, Saturday and Sunday. Come visit the store to see what colour promotion is today!
URL:https://vghthriftstore.org/event/colour-tag-sale-2025-05-09/
CATEGORIES:Sales
END:VEVENT
BEGIN:VEVENT
DTSTART;VALUE=DATE:20250510
DTEND;VALUE=DATE:20250511
DTSTAMP:20260423T234642
CREATED:20180103T223203Z
LAST-MODIFIED:20180103T223203Z
UID:2779-1746835200-1746921599@vghthriftstore.org
SUMMARY:Colour Tag Sale - 50% off
DESCRIPTION:All customers get 50% off one colour a week every Friday\, Saturday and Sunday. Come visit the store to see what colour promotion is today!
URL:https://vghthriftstore.org/event/colour-tag-sale-2025-05-10/
CATEGORIES:Sales
END:VEVENT
BEGIN:VEVENT
DTSTART;VALUE=DATE:20250511
DTEND;VALUE=DATE:20250512
DTSTAMP:20260423T234642
CREATED:20180103T223203Z
LAST-MODIFIED:20180103T223203Z
UID:2780-1746921600-1747007999@vghthriftstore.org
SUMMARY:Colour Tag Sale - 50% off
DESCRIPTION:All customers get 50% off one colour a week every Friday\, Saturday and Sunday. Come visit the store to see what colour promotion is today!
URL:https://vghthriftstore.org/event/colour-tag-sale-2025-05-11/
CATEGORIES:Sales
END:VEVENT
BEGIN:VEVENT
DTSTART;VALUE=DATE:20250512
DTEND;VALUE=DATE:20250513
DTSTAMP:20260423T234642
CREATED:20180103T223423Z
LAST-MODIFIED:20180103T223423Z
UID:2781-1747008000-1747094399@vghthriftstore.org
SUMMARY:Seniors Day
DESCRIPTION:All seniors get 10% off your entire purchase
URL:https://vghthriftstore.org/event/seniors-day-4-2025-05-12/
CATEGORIES:Sales
END:VEVENT
BEGIN:VEVENT
DTSTART;VALUE=DATE:20250516
DTEND;VALUE=DATE:20250517
DTSTAMP:20260423T234642
CREATED:20180103T223203Z
LAST-MODIFIED:20180103T223203Z
UID:2782-1747353600-1747439999@vghthriftstore.org
SUMMARY:Colour Tag Sale - 50% off
DESCRIPTION:All customers get 50% off one colour a week every Friday\, Saturday and Sunday. Come visit the store to see what colour promotion is today!
URL:https://vghthriftstore.org/event/colour-tag-sale-2025-05-16/
CATEGORIES:Sales
END:VEVENT
BEGIN:VEVENT
DTSTART;VALUE=DATE:20250517
DTEND;VALUE=DATE:20250518
DTSTAMP:20260423T234642
CREATED:20180103T223203Z
LAST-MODIFIED:20180103T223203Z
UID:2783-1747440000-1747526399@vghthriftstore.org
SUMMARY:Colour Tag Sale - 50% off
DESCRIPTION:All customers get 50% off one colour a week every Friday\, Saturday and Sunday. Come visit the store to see what colour promotion is today!
URL:https://vghthriftstore.org/event/colour-tag-sale-2025-05-17/
CATEGORIES:Sales
END:VEVENT
BEGIN:VEVENT
DTSTART;VALUE=DATE:20250518
DTEND;VALUE=DATE:20250519
DTSTAMP:20260423T234642
CREATED:20180103T223203Z
LAST-MODIFIED:20180103T223203Z
UID:2784-1747526400-1747612799@vghthriftstore.org
SUMMARY:Colour Tag Sale - 50% off
DESCRIPTION:All customers get 50% off one colour a week every Friday\, Saturday and Sunday. Come visit the store to see what colour promotion is today!
URL:https://vghthriftstore.org/event/colour-tag-sale-2025-05-18/
CATEGORIES:Sales
END:VEVENT
BEGIN:VEVENT
DTSTART;VALUE=DATE:20250519
DTEND;VALUE=DATE:20250520
DTSTAMP:20260423T234642
CREATED:20180103T223423Z
LAST-MODIFIED:20180103T223423Z
UID:2785-1747612800-1747699199@vghthriftstore.org
SUMMARY:Seniors Day
DESCRIPTION:All seniors get 10% off your entire purchase
URL:https://vghthriftstore.org/event/seniors-day-4-2025-05-19/
CATEGORIES:Sales
END:VEVENT
BEGIN:VEVENT
DTSTART;VALUE=DATE:20250523
DTEND;VALUE=DATE:20250524
DTSTAMP:20260423T234642
CREATED:20180103T223203Z
LAST-MODIFIED:20180103T223203Z
UID:2786-1747958400-1748044799@vghthriftstore.org
SUMMARY:Colour Tag Sale - 50% off
DESCRIPTION:All customers get 50% off one colour a week every Friday\, Saturday and Sunday. Come visit the store to see what colour promotion is today!
URL:https://vghthriftstore.org/event/colour-tag-sale-2025-05-23/
CATEGORIES:Sales
END:VEVENT
BEGIN:VEVENT
DTSTART;VALUE=DATE:20250524
DTEND;VALUE=DATE:20250525
DTSTAMP:20260423T234642
CREATED:20180103T223203Z
LAST-MODIFIED:20180103T223203Z
UID:2787-1748044800-1748131199@vghthriftstore.org
SUMMARY:Colour Tag Sale - 50% off
DESCRIPTION:All customers get 50% off one colour a week every Friday\, Saturday and Sunday. Come visit the store to see what colour promotion is today!
URL:https://vghthriftstore.org/event/colour-tag-sale-2025-05-24/
CATEGORIES:Sales
END:VEVENT
BEGIN:VEVENT
DTSTART;VALUE=DATE:20250525
DTEND;VALUE=DATE:20250526
DTSTAMP:20260423T234642
CREATED:20180103T223203Z
LAST-MODIFIED:20180103T223203Z
UID:2788-1748131200-1748217599@vghthriftstore.org
SUMMARY:Colour Tag Sale - 50% off
DESCRIPTION:All customers get 50% off one colour a week every Friday\, Saturday and Sunday. Come visit the store to see what colour promotion is today!
URL:https://vghthriftstore.org/event/colour-tag-sale-2025-05-25/
CATEGORIES:Sales
END:VEVENT
BEGIN:VEVENT
DTSTART;VALUE=DATE:20250526
DTEND;VALUE=DATE:20250527
DTSTAMP:20260423T234642
CREATED:20180103T223423Z
LAST-MODIFIED:20180103T223423Z
UID:2789-1748217600-1748303999@vghthriftstore.org
SUMMARY:Seniors Day
DESCRIPTION:All seniors get 10% off your entire purchase
URL:https://vghthriftstore.org/event/seniors-day-4-2025-05-26/
CATEGORIES:Sales
END:VEVENT
BEGIN:VEVENT
DTSTART;VALUE=DATE:20250530
DTEND;VALUE=DATE:20250531
DTSTAMP:20260423T234642
CREATED:20180103T223203Z
LAST-MODIFIED:20180103T223203Z
UID:2790-1748563200-1748649599@vghthriftstore.org
SUMMARY:Colour Tag Sale - 50% off
DESCRIPTION:All customers get 50% off one colour a week every Friday\, Saturday and Sunday. Come visit the store to see what colour promotion is today!
URL:https://vghthriftstore.org/event/colour-tag-sale-2025-05-30/
CATEGORIES:Sales
END:VEVENT
BEGIN:VEVENT
DTSTART;VALUE=DATE:20250531
DTEND;VALUE=DATE:20250601
DTSTAMP:20260423T234642
CREATED:20180103T223203Z
LAST-MODIFIED:20180103T223203Z
UID:2791-1748649600-1748735999@vghthriftstore.org
SUMMARY:Colour Tag Sale - 50% off
DESCRIPTION:All customers get 50% off one colour a week every Friday\, Saturday and Sunday. Come visit the store to see what colour promotion is today!
URL:https://vghthriftstore.org/event/colour-tag-sale-2025-05-31/
CATEGORIES:Sales
END:VEVENT
END:VCALENDAR