BEGIN:VCALENDAR
VERSION:2.0
PRODID:-//VGH Thrift Store - ECPv6.15.15//NONSGML v1.0//EN
CALSCALE:GREGORIAN
METHOD:PUBLISH
X-ORIGINAL-URL:https://vghthriftstore.org
X-WR-CALDESC:Events for VGH Thrift Store
REFRESH-INTERVAL;VALUE=DURATION:PT1H
X-Robots-Tag:noindex
X-PUBLISHED-TTL:PT1H
BEGIN:VTIMEZONE
TZID:America/Vancouver
BEGIN:DAYLIGHT
TZOFFSETFROM:-0800
TZOFFSETTO:-0700
TZNAME:PDT
DTSTART:20250309T100000
END:DAYLIGHT
BEGIN:STANDARD
TZOFFSETFROM:-0700
TZOFFSETTO:-0800
TZNAME:PST
DTSTART:20251102T090000
END:STANDARD
BEGIN:DAYLIGHT
TZOFFSETFROM:-0800
TZOFFSETTO:-0700
TZNAME:PDT
DTSTART:20260308T100000
END:DAYLIGHT
BEGIN:STANDARD
TZOFFSETFROM:-0700
TZOFFSETTO:-0800
TZNAME:PST
DTSTART:20261101T090000
END:STANDARD
BEGIN:DAYLIGHT
TZOFFSETFROM:-0800
TZOFFSETTO:-0700
TZNAME:PDT
DTSTART:20270314T100000
END:DAYLIGHT
BEGIN:STANDARD
TZOFFSETFROM:-0700
TZOFFSETTO:-0800
TZNAME:PST
DTSTART:20271107T090000
END:STANDARD
END:VTIMEZONE
BEGIN:VEVENT
DTSTART;VALUE=DATE:20261101
DTEND;VALUE=DATE:20261102
DTSTAMP:20260423T180056
CREATED:20180103T223203Z
LAST-MODIFIED:20180103T223203Z
UID:3105-1793491200-1793577599@vghthriftstore.org
SUMMARY:Colour Tag Sale - 50% off
DESCRIPTION:All customers get 50% off one colour a week every Friday\, Saturday and Sunday. Come visit the store to see what colour promotion is today!
URL:https://vghthriftstore.org/event/colour-tag-sale-2026-11-01/
CATEGORIES:Sales
END:VEVENT
BEGIN:VEVENT
DTSTART;VALUE=DATE:20261102
DTEND;VALUE=DATE:20261103
DTSTAMP:20260423T180056
CREATED:20180103T223423Z
LAST-MODIFIED:20180103T223423Z
UID:3106-1793577600-1793663999@vghthriftstore.org
SUMMARY:Seniors Day
DESCRIPTION:All seniors get 10% off your entire purchase
URL:https://vghthriftstore.org/event/seniors-day-4-2026-11-02/
CATEGORIES:Sales
END:VEVENT
BEGIN:VEVENT
DTSTART;VALUE=DATE:20261106
DTEND;VALUE=DATE:20261107
DTSTAMP:20260423T180056
CREATED:20180103T223203Z
LAST-MODIFIED:20180103T223203Z
UID:3107-1793923200-1794009599@vghthriftstore.org
SUMMARY:Colour Tag Sale - 50% off
DESCRIPTION:All customers get 50% off one colour a week every Friday\, Saturday and Sunday. Come visit the store to see what colour promotion is today!
URL:https://vghthriftstore.org/event/colour-tag-sale-2026-11-06/
CATEGORIES:Sales
END:VEVENT
BEGIN:VEVENT
DTSTART;VALUE=DATE:20261107
DTEND;VALUE=DATE:20261108
DTSTAMP:20260423T180056
CREATED:20180103T223203Z
LAST-MODIFIED:20180103T223203Z
UID:3108-1794009600-1794095999@vghthriftstore.org
SUMMARY:Colour Tag Sale - 50% off
DESCRIPTION:All customers get 50% off one colour a week every Friday\, Saturday and Sunday. Come visit the store to see what colour promotion is today!
URL:https://vghthriftstore.org/event/colour-tag-sale-2026-11-07/
CATEGORIES:Sales
END:VEVENT
BEGIN:VEVENT
DTSTART;VALUE=DATE:20261108
DTEND;VALUE=DATE:20261109
DTSTAMP:20260423T180056
CREATED:20180103T223203Z
LAST-MODIFIED:20180103T223203Z
UID:3109-1794096000-1794182399@vghthriftstore.org
SUMMARY:Colour Tag Sale - 50% off
DESCRIPTION:All customers get 50% off one colour a week every Friday\, Saturday and Sunday. Come visit the store to see what colour promotion is today!
URL:https://vghthriftstore.org/event/colour-tag-sale-2026-11-08/
CATEGORIES:Sales
END:VEVENT
BEGIN:VEVENT
DTSTART;VALUE=DATE:20261109
DTEND;VALUE=DATE:20261110
DTSTAMP:20260423T180056
CREATED:20180103T223423Z
LAST-MODIFIED:20180103T223423Z
UID:3110-1794182400-1794268799@vghthriftstore.org
SUMMARY:Seniors Day
DESCRIPTION:All seniors get 10% off your entire purchase
URL:https://vghthriftstore.org/event/seniors-day-4-2026-11-09/
CATEGORIES:Sales
END:VEVENT
BEGIN:VEVENT
DTSTART;VALUE=DATE:20261113
DTEND;VALUE=DATE:20261114
DTSTAMP:20260423T180056
CREATED:20180103T223203Z
LAST-MODIFIED:20180103T223203Z
UID:3111-1794528000-1794614399@vghthriftstore.org
SUMMARY:Colour Tag Sale - 50% off
DESCRIPTION:All customers get 50% off one colour a week every Friday\, Saturday and Sunday. Come visit the store to see what colour promotion is today!
URL:https://vghthriftstore.org/event/colour-tag-sale-2026-11-13/
CATEGORIES:Sales
END:VEVENT
BEGIN:VEVENT
DTSTART;VALUE=DATE:20261114
DTEND;VALUE=DATE:20261115
DTSTAMP:20260423T180056
CREATED:20180103T223203Z
LAST-MODIFIED:20180103T223203Z
UID:3112-1794614400-1794700799@vghthriftstore.org
SUMMARY:Colour Tag Sale - 50% off
DESCRIPTION:All customers get 50% off one colour a week every Friday\, Saturday and Sunday. Come visit the store to see what colour promotion is today!
URL:https://vghthriftstore.org/event/colour-tag-sale-2026-11-14/
CATEGORIES:Sales
END:VEVENT
BEGIN:VEVENT
DTSTART;VALUE=DATE:20261115
DTEND;VALUE=DATE:20261116
DTSTAMP:20260423T180056
CREATED:20180103T223203Z
LAST-MODIFIED:20180103T223203Z
UID:3113-1794700800-1794787199@vghthriftstore.org
SUMMARY:Colour Tag Sale - 50% off
DESCRIPTION:All customers get 50% off one colour a week every Friday\, Saturday and Sunday. Come visit the store to see what colour promotion is today!
URL:https://vghthriftstore.org/event/colour-tag-sale-2026-11-15/
CATEGORIES:Sales
END:VEVENT
BEGIN:VEVENT
DTSTART;VALUE=DATE:20261116
DTEND;VALUE=DATE:20261117
DTSTAMP:20260423T180056
CREATED:20180103T223423Z
LAST-MODIFIED:20180103T223423Z
UID:3114-1794787200-1794873599@vghthriftstore.org
SUMMARY:Seniors Day
DESCRIPTION:All seniors get 10% off your entire purchase
URL:https://vghthriftstore.org/event/seniors-day-4-2026-11-16/
CATEGORIES:Sales
END:VEVENT
BEGIN:VEVENT
DTSTART;VALUE=DATE:20261120
DTEND;VALUE=DATE:20261121
DTSTAMP:20260423T180056
CREATED:20180103T223203Z
LAST-MODIFIED:20180103T223203Z
UID:3116-1795132800-1795219199@vghthriftstore.org
SUMMARY:Colour Tag Sale - 50% off
DESCRIPTION:All customers get 50% off one colour a week every Friday\, Saturday and Sunday. Come visit the store to see what colour promotion is today!
URL:https://vghthriftstore.org/event/colour-tag-sale-2026-11-20/
CATEGORIES:Sales
END:VEVENT
BEGIN:VEVENT
DTSTART;VALUE=DATE:20261121
DTEND;VALUE=DATE:20261122
DTSTAMP:20260423T180056
CREATED:20180103T223203Z
LAST-MODIFIED:20180103T223203Z
UID:3117-1795219200-1795305599@vghthriftstore.org
SUMMARY:Colour Tag Sale - 50% off
DESCRIPTION:All customers get 50% off one colour a week every Friday\, Saturday and Sunday. Come visit the store to see what colour promotion is today!
URL:https://vghthriftstore.org/event/colour-tag-sale-2026-11-21/
CATEGORIES:Sales
END:VEVENT
BEGIN:VEVENT
DTSTART;VALUE=DATE:20261122
DTEND;VALUE=DATE:20261123
DTSTAMP:20260423T180056
CREATED:20180103T223203Z
LAST-MODIFIED:20180103T223203Z
UID:3118-1795305600-1795391999@vghthriftstore.org
SUMMARY:Colour Tag Sale - 50% off
DESCRIPTION:All customers get 50% off one colour a week every Friday\, Saturday and Sunday. Come visit the store to see what colour promotion is today!
URL:https://vghthriftstore.org/event/colour-tag-sale-2026-11-22/
CATEGORIES:Sales
END:VEVENT
BEGIN:VEVENT
DTSTART;VALUE=DATE:20261123
DTEND;VALUE=DATE:20261124
DTSTAMP:20260423T180056
CREATED:20180103T223423Z
LAST-MODIFIED:20180103T223423Z
UID:3127-1795392000-1795478399@vghthriftstore.org
SUMMARY:Seniors Day
DESCRIPTION:All seniors get 10% off your entire purchase
URL:https://vghthriftstore.org/event/seniors-day-4-2026-11-23/
CATEGORIES:Sales
END:VEVENT
BEGIN:VEVENT
DTSTART;VALUE=DATE:20261127
DTEND;VALUE=DATE:20261128
DTSTAMP:20260423T180056
CREATED:20180103T223203Z
LAST-MODIFIED:20180103T223203Z
UID:3119-1795737600-1795823999@vghthriftstore.org
SUMMARY:Colour Tag Sale - 50% off
DESCRIPTION:All customers get 50% off one colour a week every Friday\, Saturday and Sunday. Come visit the store to see what colour promotion is today!
URL:https://vghthriftstore.org/event/colour-tag-sale-2026-11-27/
CATEGORIES:Sales
END:VEVENT
BEGIN:VEVENT
DTSTART;VALUE=DATE:20261128
DTEND;VALUE=DATE:20261129
DTSTAMP:20260423T180056
CREATED:20180103T223203Z
LAST-MODIFIED:20180103T223203Z
UID:3120-1795824000-1795910399@vghthriftstore.org
SUMMARY:Colour Tag Sale - 50% off
DESCRIPTION:All customers get 50% off one colour a week every Friday\, Saturday and Sunday. Come visit the store to see what colour promotion is today!
URL:https://vghthriftstore.org/event/colour-tag-sale-2026-11-28/
CATEGORIES:Sales
END:VEVENT
BEGIN:VEVENT
DTSTART;VALUE=DATE:20261129
DTEND;VALUE=DATE:20261130
DTSTAMP:20260423T180056
CREATED:20180103T223203Z
LAST-MODIFIED:20180103T223203Z
UID:3121-1795910400-1795996799@vghthriftstore.org
SUMMARY:Colour Tag Sale - 50% off
DESCRIPTION:All customers get 50% off one colour a week every Friday\, Saturday and Sunday. Come visit the store to see what colour promotion is today!
URL:https://vghthriftstore.org/event/colour-tag-sale-2026-11-29/
CATEGORIES:Sales
END:VEVENT
BEGIN:VEVENT
DTSTART;VALUE=DATE:20261130
DTEND;VALUE=DATE:20261201
DTSTAMP:20260423T180056
CREATED:20180103T223423Z
LAST-MODIFIED:20180103T223423Z
UID:3128-1795996800-1796083199@vghthriftstore.org
SUMMARY:Seniors Day
DESCRIPTION:All seniors get 10% off your entire purchase
URL:https://vghthriftstore.org/event/seniors-day-4-2026-11-30/
CATEGORIES:Sales
END:VEVENT
END:VCALENDAR